BEGIN:VCALENDAR
VERSION:2.0
PRODID:-//eventon.com NONSGML v1.0//EN
CALSCALE:GREGORIAN
METHOD:PUBLISH
BEGIN:VEVENT
UID:69e7af41c2ede
DTSTAMP:20260421T170921Z
DTSTART:20260423T150000Z
DTEND:20260423T180000Z
LOCATION:The Weed Shoppe 4906 Arthur Kill Rd\,  Staten Island\,  NY 10309\,  USA
SUMMARY:The Weed Shoppe
DESCRIPTION:The Weed Shoppe\nhttps://jaunty.com/events/the-weed-shoppe/
URL:https://jaunty.com/events/the-weed-shoppe/
END:VEVENT
END:VCALENDAR