BEGIN:VCALENDAR
VERSION:2.0
PRODID:-//eventon.com NONSGML v1.0//EN
CALSCALE:GREGORIAN
METHOD:PUBLISH
BEGIN:VEVENT
UID:69e78dda66626
DTSTAMP:20260421T144650Z
DTSTART:20260424T160000Z
DTEND:20260424T190000Z
LOCATION:Strain Stars 1815 Broadhollow Rd
SUMMARY:Strain Stars Riverhead
DESCRIPTION:Strain Stars Riverhead\nhttps://jaunty.com/events/strain-stars-
 riverhead/
URL:https://jaunty.com/events/strain-stars-riverhead/
END:VEVENT
END:VCALENDAR